View In:
ArcGIS JavaScript
ArcGIS Online Map Viewer
ArcGIS Earth
Service Description: Imagery/2022_Aerial_Photo_Image_Service
Name: Imagery/2022_Aerial_Photo_Image_Service
Description:
Single Fused Map Cache: false
Extent:
XMin: 774750.0
YMin: 1369500.0
XMax: 839750.0
YMax: 1425750.0
Spatial Reference: 3443
(3443)
LatestVCSWkid(0)
Initial Extent:
XMin: 774750.0
YMin: 1369500.0
XMax: 839750.0
YMax: 1425750.0
Spatial Reference: 3443
(3443)
LatestVCSWkid(0)
Full Extent:
XMin: 774750.0
YMin: 1369500.0
XMax: 839750.0
YMax: 1425750.0
Spatial Reference: 3443
(3443)
LatestVCSWkid(0)
Pixel Size X: 0.25
Pixel Size Y: 0.25
Band Count: 5
Pixel Type: U8
RasterFunction Infos: {"rasterFunctionInfos": [{
"name": "None",
"description": "",
"help": ""
}]}
Mensuration Capabilities: Basic
Inspection Capabilities:
Has Histograms: true
Has Colormap: false
Has Multi Dimensions : false
Rendering Rule:
Min Scale: 0
Max Scale: 0
Resampling: false
Copyright Text:
Service Data Type: esriImageServiceDataTypeGeneric
Min Values: 36, 56, 60, 0, 0
Max Values: 255, 255, 255, 255, 255
Mean Values: 153.81789772727, 150.48551136364, 147.43551136364, 186.27244318182, 212.41647727273
Standard Deviation Values: 48.597711647758, 49.23664811248, 49.854257366642, 35.70613061295, 93.617035169642
Object ID Field:
Fields:
None
Default Mosaic Method: Center
Allowed Mosaic Methods:
SortField:
SortValue: null
Mosaic Operator: First
Default Compression Quality: 75
Default Resampling Method: Bilinear
Max Record Count: null
Max Image Height: 4100
Max Image Width: 15000
Max Download Image Count: null
Max Mosaic Image Count: null
Allow Raster Function: true
Allow Copy: true
Allow Analysis: true
Allow Compute TiePoints: false
Supports Statistics: false
Supports Advanced Queries: false
Use StandardizedQueries: true
Raster Type Infos:
Name: Raster Dataset
Description: Supports all ArcGIS Raster Datasets
Help:
Has Raster Attribute Table: false
Edit Fields Info: null
Ownership Based AccessControl For Rasters: null
Child Resources:
Info
Histograms
Statistics
Key Properties
Legend
Raster Function Infos
Supported Operations:
Export Image
Identify
Measure
Compute Histograms
Compute Statistics Histograms
Get Samples
Compute Class Statistics
Query Boundary
Compute Pixel Location
Compute Angles
Validate
Project